BEGIN:VCALENDAR
VERSION:2.0
PRODID:-//wp-events-plugin.com//7.2.3.1//EN
TZID:America/New_York
X-WR-TIMEZONE:America/New_York
BEGIN:VEVENT
UID:144@mycarefriends.com
DTSTART;TZID=America/New_York:20230726T100000
DTEND;TZID=America/New_York:20230726T170000
DTSTAMP:20230615T143044Z
URL:https://mycarefriends.com/events/linking-individuals-needing-care-linc
 -care-coordination-training-suicide-risk-identification-etc/
SUMMARY:Linking Individuals Needing Care (LINC): Care Coordination Training
  - Suicide Risk Identification\, Etc.
DESCRIPTION:Linking Individuals Needing Care (LINC): Care Coordination Trai
 ning is a skills-based training that teaches professionals suicide risk id
 entification skills\, rapport-building strategies\, continuity of care str
 ategies\, and steps for collaborating with helping professionals to streng
 then systems of care to keep individuals who are considering suicide safe.
 \n\nThis training goes over the FL LEADS Project Care Coordination and int
 ensive follow-up model. This is a 7-hour training for care coordinators\, 
 case managers\, peer specialists\, and health and mental health profession
 als. CEUs are provided for Florida Board Certified LCSWs\, LMFTs\, and LMH
 Cs\n\nThis class is FREE and limited to 30 participants. A Zoom link will 
 be provided to the confirmed list 24 hours prior to the training.\n\nJuly 
 26\, 2023: 9 AM - 4 PM (CT) / 10 AM - 5 PM (EST)
ATTACH;FMTTYPE=image/jpeg:https://mycarefriends.com/wp-content/uploads/202
 3/05/Screenshot-2023-05-04-at-3.43.57-PM.png
LOCATION:https://www.eventbrite.com/e/linking-individuals-needing-care-linc
 -care-coordination-training-tickets-597812903487
END:VEVENT
BEGIN:VTIMEZONE
TZID:America/New_York
X-LIC-LOCATION:America/New_York
BEGIN:DAYLIGHT
DTSTART:20230312T030000
TZOFFSETFROM:-0500
TZOFFSETTO:-0400
TZNAME:EDT
END:DAYLIGHT
END:VTIMEZONE
END:VCALENDAR